BEGIN:VCALENDAR
VERSION:2.0
PRODID:-//rosalia.gal//NONSGML kigkonsult.se iCalcreator 2.29.14//
CALSCALE:GREGORIAN
METHOD:PUBLISH
UID:8d94ba1c-ed22-4449-be43-57cc19ec3858
X-WR-CALNAME:Rosalía de Castro
X-WR-CALDESC:Este é o calendario da Fundación Rosalía de Castro
X-WR-TIMEZONE:Europe/Madrid
BEGIN:VTIMEZONE
TZID:Europe/Madrid
BEGIN:STANDARD
TZNAME:CET
DTSTART:20221030T030000
TZOFFSETFROM:+0200
TZOFFSETTO:+0100
RDATE:20231029T030000
END:STANDARD
BEGIN:DAYLIGHT
TZNAME:CEST
DTSTART:20220327T020000
TZOFFSETFROM:+0100
TZOFFSETTO:+0200
RDATE:20230326T020000
RDATE:20240331T020000
END:DAYLIGHT
END:VTIMEZONE
BEGIN:VEVENT
UID:c003002e-bdad-4744-9a49-a5be26d64ef1
DTSTAMP:20260425T183639Z
CLASS:PUBLIC
DESCRIPTION:
DTSTART;TZID=Europe/Madrid:20221217T120000
LOCATION:Auditorio da Casa de Rosalía
SEQUENCE:1
SUMMARY:Rosalía Filla Adoptiva de Dodro
TRANSP:OPAQUE
END:VEVENT
END:VCALENDAR
