BEGIN:VCALENDAR
VERSION:2.0
PRODID:-//rosalia.gal//NONSGML kigkonsult.se iCalcreator 2.29.14//
CALSCALE:GREGORIAN
METHOD:PUBLISH
UID:fa50f99d-43e7-4e1a-a33f-6938eab1cd28
X-WR-CALNAME:Rosalía de Castro
X-WR-CALDESC:Este é o calendario da Fundación Rosalía de Castro
X-WR-TIMEZONE:Europe/Madrid
BEGIN:VTIMEZONE
TZID:Europe/Madrid
BEGIN:STANDARD
TZNAME:CET
DTSTART:20211031T030000
TZOFFSETFROM:+0200
TZOFFSETTO:+0100
RDATE:20221030T030000
RDATE:20231029T030000
END:STANDARD
BEGIN:DAYLIGHT
TZNAME:CEST
DTSTART:20220327T020000
TZOFFSETFROM:+0100
TZOFFSETTO:+0200
RDATE:20230326T020000
END:DAYLIGHT
END:VTIMEZONE
BEGIN:VEVENT
UID:aa4d5354-da7e-4a12-878e-05ecde9bcca6
DTSTAMP:20260421T104559Z
CLASS:PUBLIC
DESCRIPTION:
DTSTART;VALUE=DATE:20220716
LOCATION:Río Ulla e Sar (Desde Vilarello -Valga- ata Padrón)
SEQUENCE:1
SUMMARY:Inchadiña Branca Vela 2022
TRANSP:OPAQUE
END:VEVENT
END:VCALENDAR
