BEGIN:VCALENDAR
VERSION:2.0
PRODID:-//rosalia.gal//NONSGML kigkonsult.se iCalcreator 2.29.14//
CALSCALE:GREGORIAN
METHOD:PUBLISH
UID:291bc37a-b31c-4b99-98c2-8b8ab3c47cea
X-WR-CALNAME:Rosalía de Castro
X-WR-CALDESC:Este é o calendario da Fundación Rosalía de Castro
X-WR-TIMEZONE:Europe/Madrid
BEGIN:VTIMEZONE
TZID:Europe/Madrid
BEGIN:STANDARD
TZNAME:CET
DTSTART:20231029T030000
TZOFFSETFROM:+0200
TZOFFSETTO:+0100
RDATE:20241027T030000
RDATE:20251026T030000
END:STANDARD
BEGIN:DAYLIGHT
TZNAME:CEST
DTSTART:20240331T020000
TZOFFSETFROM:+0100
TZOFFSETTO:+0200
RDATE:20250330T020000
END:DAYLIGHT
END:VTIMEZONE
BEGIN:VEVENT
UID:78eb2cf3-bc7b-48ab-ac02-a07f5d24b734
DTSTAMP:20260421T081000Z
CLASS:PUBLIC
DESCRIPTION:
DTSTART;TZID=Europe/Madrid:20240522T193000
LOCATION:Auditorio da Casa-Museo
SEQUENCE:1
SUMMARY:Conferencia 'Literatura en feminino'
TRANSP:OPAQUE
END:VEVENT
END:VCALENDAR
